BEGIN:VCALENDAR
VERSION:2.0
CALSCALE:GREGORIAN
PRODID:adamgibbons/ics
METHOD:PUBLISH
X-PUBLISHED-TTL:PT1H
BEGIN:VEVENT
UID:878@kinkcalendar.site
SUMMARY:GearWalk
DTSTAMP:20260424T135217Z
DTSTART:20260425T140000Z
DTEND:20260425T160000Z
URL:https://kinkcalendar.site/event/gearwalk
LOCATION:Hamburg\, St. Georg Kirchhof - St. Georg Kirchhof
STATUS:CONFIRMED
CATEGORIES:Fetish,Hamburg,Kinky
END:VEVENT
END:VCALENDAR
