BEGIN:VCALENDAR
VERSION:2.0
CALSCALE:GREGORIAN
PRODID:adamgibbons/ics
METHOD:PUBLISH
X-PUBLISHED-TTL:PT1H
BEGIN:VEVENT
UID:880@kinkcalendar.site
SUMMARY:X KINK meets FIETES FETE | Fetishparty
DTSTAMP:20260424T135528Z
DTSTART:20260425T203000Z
DTEND:20260426T030000Z
URL:https://kinkcalendar.site/event/x-kink-meets-fietes-fete-or-fetishparty
LOCATION:Catonium - Försterweg 163\, 22525 Hamburg
STATUS:CONFIRMED
CATEGORIES:Fetish,Gear,Hamburg,Kinky
END:VEVENT
END:VCALENDAR
