BEGIN:VCALENDAR
VERSION:2.0
CALSCALE:GREGORIAN
PRODID:adamgibbons/ics
METHOD:PUBLISH
X-PUBLISHED-TTL:PT1H
BEGIN:VEVENT
UID:933@kinkcalendar.site
SUMMARY:The Whole - 6º Aniversário
DTSTAMP:20260421T135201Z
DTSTART:20260522T210000Z
DTEND:20260523T010000Z
DESCRIPTION:O The Whole faz 6 anos de existência e vamos celebrar\, este an
	o em Lisboa.\nSão 6 anos de trabalho\, muito tempo dedicado ao projeto e t
	antas outras\nplataformas que foram criadas ao longo destes 6 anos e por i
	sso mesmo\, merecemos\ncelebrar a ocasião!\nSim\, haverá bolo para celebra
	r os 6 anos de existência do The Whole.\n\nMunch aberto a quem estiver int
	eressadx\, estejam ou não presentes no nosso\nservidor.\n\n____\n\nO Munch
	 é de cariz semi-privado\, pelo que será necessário inscrever para saberem
	\na localização e acesso.\nA confirmação é obrigatória e no máximo até ao 
	dia 6 de maio\, unicamente pelo\nformulário:\nhttps://stats.thewhole.site/
	q/6-aniversario\n[https://stats.thewhole.site/q/6-aniversario]\n\nA entrad
	a é gratuita\, mas devem pagar o vosso consumo no local.\n\n_____\n\nRelem
	bramos que munch é um encontro social entre kinksters\, sem dress code\,\n
	protocolo ou plays/demonstrações. Servindo como veículo de encontro ou ent
	rada\nde kinksters na comunidade.\n\nStay Kinky!\n\nObrigado.
URL:https://kinkcalendar.site/event/the-whole-6o-aniversario
GEO:38.7077507;-9.1365919
LOCATION:Lisboa - Lisboa\, Portugal
STATUS:CONFIRMED
CATEGORIES:Lisboa,Munch,Portugal,The Whole
X-ALT-DESC;FMTTYPE=text/html:<p>O <em>The Whole</em> faz 6 anos de existênc
	ia e vamos celebrar, este ano em Lisboa.<br>São 6 anos de trabalho, muito 
	tempo dedicado ao projeto e tantas outras plataformas que foram criadas ao
	 longo destes 6 anos e por isso mesmo, merecemos celebrar a ocasião!<br>Si
	m, haverá bolo para celebrar os 6 anos de existência do The Whole.</p><p>M
	unch aberto a quem estiver interessadx, estejam ou não presentes no nosso 
	servidor.</p><p>____</p><p>O Munch é de cariz semi-privado, pelo que será 
	necessário inscrever para saberem a localização e acesso.<br>A <u>confirma
	ção é obrigatória</u> e no máximo até ao dia 6 de maio, unicamente pelo fo
	rmulário: <br><a href="https://stats.thewhole.site/q/6-aniversario" target
	="_blank">https://stats.thewhole.site/q/6-aniversario</a></p><p>A entrada 
	é gratuita, mas devem pagar o vosso consumo no local.</p><p>_____</p><p>Re
	lembramos que munch é um encontro social entre kinksters, sem dress code, 
	protocolo ou plays/demonstrações. Servindo como veículo de encontro ou ent
	rada de kinksters na comunidade.</p><p>Stay Kinky!</p><p>Obrigado.</p>
BEGIN:VALARM
ACTION:DISPLAY
DESCRIPTION:The Whole - 6º Aniversário
TRIGGER:-PT1H
END:VALARM
END:VEVENT
END:VCALENDAR
