BEGIN:VCALENDAR
VERSION:2.0
CALSCALE:GREGORIAN
PRODID:adamgibbons/ics
METHOD:PUBLISH
X-PUBLISHED-TTL:PT1H
BEGIN:VEVENT
UID:816@kinkcalendar.site
SUMMARY:S2Ep19: Senga\; Living A BDSM Lifestyle in A Vanilla World
DTSTAMP:20260420T091348Z
DTSTART:20260104T190000Z
DTEND:20260104T200000Z
DESCRIPTION:“THIS IS A U.S. EASTERN TIME (EST) ONLINE EVENT\, FROM 7:00 PM 
	TO 8:00 PM EST.”\n\n\n\nReady for an open\, judgment-free conversation abo
	ut sexual self-discovery\,\nconfidence\, and intimacy later in life. We wi
	ll be exploring living a BDSM\nlifestyle in a vanilla world\, including re
	lationships\, boundaries\, and\nauthenticity—whether you’re kink-curious\,
	 experienced\, or partnered with someone\nvanilla. This episode is for ind
	ividuals and couples ready to reconnect with\ntheir bodies\, release shame
	\, and redefine intimacy. Through honest dialogue and\nmindful guidance\, 
	pleasure becomes a path to confidence and deeper connection at\nany age.\n
	\nMark your calendars! The link will be posted 72 hours before the intervi
	ew 😉\n\n🎙️Join our live discussion and ask your questions directly to a sex
	ual wellness\nexpert.\n\n🖤 For more real\, unfiltered conversations like t
	his\, head over to\n\nIMK with LadyRed on YouTube 👉\nhttps://youtube.com/@
	interviewmykinkwithladyred?sub_confirmation=1\n[https://youtube.com/@inter
	viewmykinkwithladyred?sub_confirmation=1]
URL:https://kinkcalendar.site/event/s2ep16-senga-living-a-bdsm-lifestyle-in
	-a-vanilla-world
LOCATION:USA - USA
STATUS:CONFIRMED
CATEGORIES:Bdsm,Kinky,Over 40,Self love,Talk,USA,podcast
X-ALT-DESC;FMTTYPE=text/html:<h3><em>“This is a U.S. Eastern Time (EST) onl
	ine event, from 7:00 PM to 8:00 PM EST.”</em></h3><p></p><p>Ready for an o
	pen, judgment-free conversation about sexual self-discovery, confidence, a
	nd intimacy later in life. We will be exploring living a BDSM lifestyle in
	 a vanilla world, including relationships, boundaries, and authenticity—wh
	ether you’re kink-curious, experienced, or partnered with someone vanilla.
	 This episode is for individuals and couples ready to reconnect with their
	 bodies, release shame, and redefine intimacy. Through honest dialogue and
	 mindful guidance, pleasure becomes a path to confidence and deeper connec
	tion at any age.</p><p>Mark your calendars! The link will be posted 72 hou
	rs before the interview 😉</p><p>🎙️Join our live discussion and ask your que
	stions directly to a sexual wellness expert.</p><p>🖤 For more real, unfilt
	ered conversations like this, head over to</p><p>IMK with LadyRed on YouTu
	be 👉 <a href="https://youtube.com/@interviewmykinkwithladyred?sub_confirma
	tion=1" target="_blank">https://youtube.com/@interviewmykinkwithladyred?su
	b_confirmation=1</a></p>
BEGIN:VALARM
ACTION:DISPLAY
DESCRIPTION:S2Ep19: Senga; Living A BDSM Lifestyle in A Vanilla World
TRIGGER:-PT1H
END:VALARM
END:VEVENT
END:VCALENDAR
