BEGIN:VCALENDAR
VERSION:2.0
CALSCALE:GREGORIAN
PRODID:adamgibbons/ics
METHOD:PUBLISH
X-PUBLISHED-TTL:PT1H
BEGIN:VEVENT
UID:870@kinkcalendar.site
SUMMARY:Rope Jam & Workshop for beginners
DTSTAMP:20260422T084454Z
DTSTART:20260228T130000Z
DTEND:20260228T190000Z
DESCRIPTION:Our next jam will take place on Saturday the 28th of February f
	rom 4 till 7pm.\n\nBefore the jam there will be the possibility to book an
	 introduction workshop\nfrom 1 to 3.30pm\nIt's for everybody who wants to 
	start with this beautiful art or refresh their\nknowledge.\nInscription ma
	ndatory\n\nMore info and questions please contact\n\nmamia6969@yahoo.com
URL:https://kinkcalendar.site/event/rope-jam-and-workshop-for-beginners
LOCATION:Lagos - Will be given at registration
STATUS:CONFIRMED
CATEGORIES:Algarve,Bondage,Peer Rope Jam,Rope,Shibari,Workshop
X-ALT-DESC;FMTTYPE=text/html:<p>Our next jam will take place on Saturday th
	e 28th of February from 4 till 7pm.</p><p>Before the jam there will be the
	 possibility to book an introduction workshop from 1 to 3.30pm<br>It's for
	 everybody who wants to start with this beautiful art or refresh their kno
	wledge.<br>Inscription mandatory</p><p>More info and questions please cont
	act</p><p>mamia6969@yahoo.com </p>
BEGIN:VALARM
ACTION:DISPLAY
DESCRIPTION:Rope Jam & Workshop for beginners
TRIGGER:-PT1H
END:VALARM
END:VEVENT
END:VCALENDAR
