BEGIN:VCALENDAR
VERSION:2.0
CALSCALE:GREGORIAN
PRODID:adamgibbons/ics
METHOD:PUBLISH
X-PUBLISHED-TTL:PT1H
BEGIN:VEVENT
UID:891@kinkcalendar.site
SUMMARY:Ichör - Aula Show
DTSTAMP:20260420T055129Z
DTSTART:20260308T160000Z
DTEND:20260308T220000Z
DESCRIPTION:ICHÖR é o novo espetáculo do Teatro da PombaGira com Apoio da C
	oordenadoria de\nIST/AIDS\, do SUS e da Prefeitura de São Paulo.\n\nO even
	to que precede nossa estreia é um pré evento de encontro com o grupo e de\
	ninício da abertura da pesquisa que estamos trabalhando. O espetáculo ICHÖ
	R e as\nAulas-Show\, são obras e eventos em processo\, eventos que vão fom
	entando a\npesquisa e alterando as cenas\, eventos que servem de compartil
	hamento de ideias\,\nprocedimentos e práticas pedagógicas do grupo para ch
	egar em suas visualidades e\nencenação.\n\nA Aula-Show é um evento desenha
	do para os amantes de teatro\, performance arte e\npedagogia\, e também pa
	ra o público interessado em discutir métodos de prevenção\,\nestigma e ace
	sso a saúde.\n\nO evento é gratuito e acontece na LoveNOX\, o Casarão do S
	aber Erótico\, e\nnecessita de retirada de convites antecipados\, porém ta
	mbém pode chegar direto\nno dia do evento pra curtir a Aula-Show\, e també
	m haverá base de testagem\,\nentrega de PREP e PEP\, além de algumas vacin
	as disponíveis para o público!\n\nVenha conhecer a nova pesquisa e trabalh
	o do Teatro da PombaGira\, ICHÖR.\n\nDireção: Marcelo D'Avilla\nElenco: Pr
	iscilla Toscano\, Wesley Lima\, Mateus Rodrigues\, Roxa Caótica\, Marcelo\
	nD'Avilla.\nCoord. Financeira: Claudia Pontes\nProdução: Cristiano Torres\
	nDesenho de Luz: Nara Zocher\nIlustração: André Liarte\nApoio e Espaço: Hu
	go Faz\, Mayanna Rodrigues\, Casa Nua e LoveNOX.\n\nIngressos [https://sho
	tgun.live/pt-br/events/ichor-aula-show]
URL:https://kinkcalendar.site/event/ichor-aula-show
GEO:-23.5539411;-46.6318413
LOCATION:Lovenox - 136\, Rua Conde de Sarzedas\, Glicério\, Sé\, São Paulo\
	, Região Imediata de São Paulo\, Região Metropolitana de São Paulo\, Regiã
	o Geográfica Intermediária de São Paulo\, São Paulo\, Região Sudeste\, 015
	12-070\, Brasil
STATUS:CONFIRMED
CATEGORIES:Aids,Bdsm,Brasil,Brazil,IST,Lovenox,PombaGira,SUS,SaoPaulo,SexoP
	ositivo,Teatro
X-ALT-DESC;FMTTYPE=text/html:<p>ICHÖR é o novo espetáculo do Teatro da Pomb
	aGira com Apoio da Coordenadoria de IST/AIDS, do SUS e da Prefeitura de Sã
	o Paulo. </p><p>O evento que precede nossa estreia é um pré evento de enco
	ntro com o grupo e de início da abertura da pesquisa que estamos trabalhan
	do. O espetáculo ICHÖR e as Aulas-Show, são obras e eventos em processo, e
	ventos que vão fomentando a pesquisa e alterando as cenas, eventos que ser
	vem de compartilhamento de ideias, procedimentos e práticas pedagógicas do
	 grupo para chegar em suas visualidades e encenação. </p><p>A Aula-Show é 
	um evento desenhado para os amantes de teatro, performance arte e pedagogi
	a, e também para o público interessado em discutir métodos de prevenção, e
	stigma e acesso a saúde. </p><p>O evento é gratuito e acontece na LoveNOX,
	 o Casarão do Saber Erótico, e necessita de retirada de convites antecipad
	os, porém também pode chegar direto no dia do evento pra curtir a Aula-Sho
	w, e também haverá base de testagem, entrega de PREP e PEP, além de alguma
	s vacinas disponíveis para o público!</p><p>Venha conhecer a nova pesquisa
	 e trabalho do Teatro da PombaGira, ICHÖR.</p><p><strong>Direção:</strong>
	 Marcelo D'Avilla<br><strong>Elenco:</strong> Priscilla Toscano, Wesley Li
	ma, Mateus Rodrigues, Roxa Caótica, Marcelo D'Avilla.<br><strong>Coord. Fi
	nanceira:</strong> Claudia Pontes<br><strong>Produção:</strong> Cristiano 
	Torres<br><strong>Desenho de Luz:</strong> Nara Zocher<br><strong>Ilustraç
	ão:</strong> André Liarte<br><strong>Apoio e Espaço:</strong> Hugo Faz, Ma
	yanna Rodrigues, Casa Nua e LoveNOX.<br><br><a href="https://shotgun.live/
	pt-br/events/ichor-aula-show" target="_blank">Ingressos</a></p>
BEGIN:VALARM
ACTION:DISPLAY
DESCRIPTION:Ichör - Aula Show
TRIGGER:-PT1H
END:VALARM
END:VEVENT
END:VCALENDAR
