BEGIN:VCALENDAR
VERSION:2.0
CALSCALE:GREGORIAN
PRODID:adamgibbons/ics
METHOD:PUBLISH
X-PUBLISHED-TTL:PT1H
BEGIN:VEVENT
UID:885@kinkcalendar.site
SUMMARY:Ep 24: Domina Alluriah-Coast-to-Coast Kink Education
DTSTAMP:20260425T210416Z
DTSTART:20260308T190000Z
DTEND:20260308T200000Z
DESCRIPTION:"THIS IS A U.S. EASTERN TIME (EST) ONLINE EVENT FROM 7:00 PM TO
	 8:00 PM"\n\n\n\n\nLIVE EPISODE ALERT\n\n\n\nWe’re kicking off the first L
	IVE episode of the month with a virtual interview\nfeaturing the phenomena
	l Domina Alluriah. Come ready with your questions\, your\nthoughts\, and y
	our energy\, let’s connect and build in real time.\nDomina Alluriah is a m
	ulti-racial trans Leatherwoman from the Gulf Coast of MS.\nShe is a co lea
	der of several groups including SMART in South MS\, LBT in\nAlabama\, and 
	HALE which spans the Gulf Coast. She is the Chapter Director of\nMAsT:Bilo
	xi and has educated from literal Coast to Coast across the US. She is a\nc
	ontributing writer to BLIC Magazine\, and as a BIPOC Trans woman\, she use
	s her\nplatform to highlight the importance of inclusivity\, visibility an
	d\nrepresentation. Her Leather values focus on selfless service\, integrit
	y\, and\nrespect.\n\n\n🎙️ Love real conversations about kink\, creativity\,
	 and community?\nJoin our kink community on Patreon. it’s free to join!\nh
	ttps://www.patreon.com/c/InterviewMyKinkwithLadyRed\n[https://www.patreon.
	com/c/InterviewMyKinkwithLadyRed]\n\nWatch interviews and discover voices 
	from across the scene on our YouTube\nchannel:\n👉 https://youtube.com/@int
	erviewmykinkwithladyred?sub_confirmation=1\n[https://youtube.com/@intervie
	wmykinkwithladyred?sub_confirmation=1]\n\nLink will be shared 48 hrs befor
	e the interview
URL:https://kinkcalendar.site/event/ep-24-domina-alluriah-coast-to-coast-ki
	nk-education
GEO:39.7837304;-100.445882
LOCATION:online USA - USA
STATUS:CONFIRMED
CATEGORIES:Bdsm,Bipoc,Interview,LGBTQ,Talk,USA,podcast
X-ALT-DESC;FMTTYPE=text/html:<h3><strong>"This is a U.S. Eastern Time (EST)
	 online event from 7:00 PM to 8:00 PM"</strong></h3><p></p><h1><strong>LIV
	E EPISODE ALERT</strong></h1><p></p><p>We’re kicking off the first LIVE ep
	isode of the month with a virtual interview featuring the phenomenal Domin
	a Alluriah. Come ready with your questions, your thoughts, and your energy
	, let’s connect and build in real time.<br>Domina Alluriah is a multi-raci
	al trans Leatherwoman from the Gulf Coast of MS. She is a co leader of sev
	eral groups including SMART in South MS, LBT in Alabama, and HALE which sp
	ans the Gulf Coast. She is the Chapter Director of MAsT:Biloxi and has edu
	cated from literal Coast to Coast across the US. She is a contributing wri
	ter to BLIC Magazine, and as a BIPOC Trans woman, she uses her platform to
	 highlight the importance of inclusivity, visibility and representation. H
	er Leather values focus on selfless service, integrity, and respect.<br></
	p><p>🎙️ Love real conversations about kink, creativity, and community?<br>J
	oin our kink community on Patreon. it’s free to join!<br><a href="https://
	www.patreon.com/c/InterviewMyKinkwithLadyRed" target="_blank">https://www.
	patreon.com/c/InterviewMyKinkwithLadyRed</a></p><p>Watch interviews and di
	scover voices from across the scene on our YouTube channel:<br>👉 <a href="
	https://youtube.com/@interviewmykinkwithladyred?sub_confirmation=1" target
	="_blank">https://youtube.com/@interviewmykinkwithladyred?sub_confirmation
	=1</a></p><p><strong>Link will be shared 48 hrs before the interview</stro
	ng></p>
BEGIN:VALARM
ACTION:DISPLAY
DESCRIPTION:Ep 24: Domina Alluriah-Coast-to-Coast Kink Education
TRIGGER:-PT1H
END:VALARM
END:VEVENT
END:VCALENDAR
