BEGIN:VCALENDAR
VERSION:2.0
CALSCALE:GREGORIAN
PRODID:adamgibbons/ics
METHOD:PUBLISH
X-PUBLISHED-TTL:PT1H
BEGIN:VEVENT
UID:893@kinkcalendar.site
SUMMARY:Caster-Treffen in Bremerhaven
DTSTAMP:20260424T234608Z
DTSTART:20260618T170000Z
DTEND:20260621T110000Z
DESCRIPTION:Castertreffen in Bremerhaven -- komm auf ein Bierchen vorbei un
	d unterschreib\nauf einem Gips!
URL:https://kinkcalendar.site/event/caster-treffen-in-bremerhaven-1
LOCATION:Bremerhaven - Bremerhaven
STATUS:CONFIRMED
CATEGORIES:Bremerhaven,Deutschland,Germany,Kinky,Queer,cast,castbondage,cas
	tfetish,gay,gaycastbondage,gaycastfetish,gips,gipsbondage,gipsfetisch,kink
	,kinkycast,kinkycastfetish,medical,medicalfetish,queercast
X-ALT-DESC;FMTTYPE=text/html:<p>Castertreffen in Bremerhaven -- komm auf ei
	n Bierchen vorbei und unterschreib auf einem Gips!</p>
BEGIN:VALARM
ACTION:DISPLAY
DESCRIPTION:Caster-Treffen in Bremerhaven
TRIGGER:-PT1H
END:VALARM
END:VEVENT
END:VCALENDAR
