BEGIN:VCALENDAR
VERSION:2.0
CALSCALE:GREGORIAN
PRODID:adamgibbons/ics
METHOD:PUBLISH
X-PUBLISHED-TTL:PT1H
BEGIN:VEVENT
UID:932@kinkcalendar.site
SUMMARY:Barkassenfahrt in Gear zum 837. Hamburger Hafengeburtstag
DTSTAMP:20260420T055734Z
DTSTART:20260508T183000Z
DTEND:20260508T213000Z
DESCRIPTION:Zum 837. Hamburger Hafengeburtstag laden wir euch zu einer ganz
	 besonderen\nAbendfahrt auf der Elbe ein – organisiert vom Hamburg Fetish 
	e.V.\n\n📅 Freitag\, 08. Mai 2026\n\n⏰ Einlass & Boarding: ab 19:30 Uhr\n\n
	🚢 Abfahrt: 20:00 Uhr\n\n🌊 Rückkehr: ca. 22:30 Uhr\n\n\n\n🎟️ Tickets: 42€\n\
	n⚠️ Nur limitierte Plätze verfügbar!\n\nTickets: hamburgfetish.sctl.app [ht
	tp://hamburgfetish.sctl.app]\n\n\n\n🛳️ Steigt an Bord der einzigartigen MS 
	Ennstal\, der legendären Kunstbarkasse\,\ngestaltet von Udo Lindenberg\, u
	nd erlebt den Hamburger Hafen bei Nacht aus einer\nganz neuen Perspektive.
	\n\n👕 Dress to impress (optional\, aber erwünscht):\n\nOb Sportswear\, edl
	es Leder\, Workwear (zum Beispiel als Matrose oder\nHafenarbeiter) oder eu
	er ganz eigener Gear-Style – zeigt euch\, wie ihr euch\nwohlfühlt und brin
	gt Fetish & Gear mit uns gemeinsam in die Öffentlichkeit!\n\n🎶 Musik an Bo
	rd sorgt für die richtige Stimmung – Drinks gibt’s vor Ort (nicht\nim Tick
	etpreis enthalten).
URL:https://kinkcalendar.site/event/barkassenfahrt-in-gear-zum-837-hamburge
	r-hafengeburtstag
LOCATION:online - https://hamburgfetish.sctl.app
STATUS:CONFIRMED
CATEGORIES:Hamburg
X-ALT-DESC;FMTTYPE=text/html:<p>Zum 837. Hamburger Hafengeburtstag laden wi
	r euch zu einer ganz besonderen Abendfahrt auf der Elbe ein – organisiert 
	vom Hamburg Fetish e.V.</p><p>📅 Freitag, 08. Mai 2026</p><p>⏰ Einlass &amp
	; Boarding: ab 19:30 Uhr</p><p>🚢 Abfahrt: 20:00 Uhr</p><p>🌊 Rückkehr: ca. 
	22:30 Uhr</p><p></p><p>🎟️ Tickets: 42€</p><p>⚠️ Nur limitierte Plätze verfüg
	bar!</p><p>Tickets: <a href="http://hamburgfetish.sctl.app" target="_blank
	">hamburgfetish.sctl.app</a></p><p></p><p>🛳️ Steigt an Bord der einzigartig
	en MS Ennstal, der legendären Kunstbarkasse, gestaltet von Udo Lindenberg,
	 und erlebt den Hamburger Hafen bei Nacht aus einer ganz neuen Perspektive
	.</p><p>👕 Dress to impress (optional, aber erwünscht):</p><p>Ob Sportswear
	, edles Leder, Workwear (zum Beispiel als Matrose oder Hafenarbeiter) oder
	 euer ganz eigener Gear-Style – zeigt euch, wie ihr euch wohlfühlt und bri
	ngt Fetish &amp; Gear mit uns gemeinsam in die Öffentlichkeit!</p><p>🎶 Mus
	ik an Bord sorgt für die richtige Stimmung – Drinks gibt’s vor Ort (nicht 
	im Ticketpreis enthalten).</p>
BEGIN:VALARM
ACTION:DISPLAY
DESCRIPTION:Barkassenfahrt in Gear zum 837. Hamburger Hafengeburtstag
TRIGGER:-PT1H
END:VALARM
END:VEVENT
END:VCALENDAR
